BEGIN:VCALENDAR
VERSION:2.0
PRODID:-//https://www.deutsche-kinemathek.de//NONSGML iCalcreator 2.41.92//
CALSCALE:GREGORIAN
METHOD:PUBLISH
UID:32613136-3063-4464-b431-373034363734
X-WR-RELCALID:8991b6e5-9f40-4381-b7c6-9ec69443c255
X-WR-TIMEZONE:Europe/Berlin
BEGIN:VTIMEZONE
TZID:Europe/Berlin
TZUNTIL:20280326T010000Z
BEGIN:STANDARD
TZNAME:CET
DTSTART:20251026T030000
TZOFFSETFROM:+0200
TZOFFSETTO:+0100
RDATE:20261025T030000
RDATE:20271031T030000
END:STANDARD
BEGIN:DAYLIGHT
TZNAME:CEST
DTSTART:20260329T020000
TZOFFSETFROM:+0100
TZOFFSETTO:+0200
RDATE:20270328T020000
END:DAYLIGHT
END:VTIMEZONE
BEGIN:VEVENT
UID:ce0d1e4e-6790-4789-8b02-242a4aef3458
DTSTAMP:20260420T083152Z
CLASS:PUBLIC
DESCRIPTION:BRD 1959\, Regie: John Olden Einführung: Jan Gympel\, Filmwisse
 nschaftler Liebe und Leid\, Intrigen und Glück unter »kleinen Leuten« in e
 inem alten Pariser Mietshaus: Nachdem er Alfred Gehris Tragikomödie (samt 
 zweier Fortsetzungen) 1954/55 schon einmal fürs Fernsehen inszeniert hatte
  (wie damals üblich noch live und ohne die Sendung aufzuzeichnen)\, schuf 
 John Olden 1959 dieses Remake – abermals mit seiner Frau Inge Meysel in ei
 ner Hauptrolle. Der Fernsehfilm ist ein Beispiel für jene Produktionen\, d
 urch die Inge Meysel um 1960 zum Star aufstieg. Angesichts des Erfolgs (88
  Prozent aller Fernsehgeräte sollen eingeschaltet gewesen sein) wurde ›Im 
 sechsten Stock‹ 1961 auch zum Kinofilm: in Farbe\, wieder inszeniert von O
 lden und nochmals mit anderen Mitwirkenden – bis auf Inge Meysel.
DTSTART;TZID=Europe/Berlin:20260505T190000
DTEND;TZID=Europe/Berlin:20260505T190000
LOCATION:Kinemathek – Studiokino
SEQUENCE:1
SUMMARY:Im sechsten Stock
TRANSP:OPAQUE
X-ALT-DESC;FMTTYPE=TEXT/HTML:BRD 1959\, Regie: John Olden&amp;nbsp\;Einführung:
  Jan Gympel\, Filmwissenschaftler&amp;nbsp\;Liebe und Leid\, Intrigen und Glüc
 k unter »kleinen Leuten« in einem alten Pariser Mietshaus: Nachdem er Alfr
 ed Gehris Tragikomödie (samt zweier Fortsetzungen) 1954/55 schon einmal fü
 rs Fernsehen inszeniert hatte (wie damals üblich noch live und ohne die Se
 ndung aufzuzeichnen)\, schuf John Olden 1959 dieses Remake – abermals mit 
 seiner Frau Inge Meysel in einer Hauptrolle. Der Fernsehfilm ist ein Beisp
 iel für jene Produktionen\, durch die Inge Meysel um 1960 zum Star aufstie
 g. Angesichts des Erfolgs (88 Prozent aller Fernsehgeräte sollen eingescha
 ltet gewesen sein) wurde&amp;nbsp\;›Im sechsten Stock‹ 1961 auch zum Kinofilm:
  in Farbe\, wieder inszeniert von Olden und nochmals mit anderen Mitwirken
 den – bis auf Inge Meysel.
END:VEVENT
END:VCALENDAR
