BEGIN:VCALENDAR
VERSION:2.0
PRODID:-//https://www.deutsche-kinemathek.de//NONSGML iCalcreator 2.41.92//
CALSCALE:GREGORIAN
METHOD:PUBLISH
UID:32623235-6331-4733-b832-663463363638
X-WR-RELCALID:8991b6e5-9f40-4381-b7c6-9ec69443c255
X-WR-TIMEZONE:Europe/Berlin
BEGIN:VTIMEZONE
TZID:Europe/Berlin
TZUNTIL:20271031T010000Z
BEGIN:STANDARD
TZNAME:CET
DTSTART:20251026T030000
TZOFFSETFROM:+0200
TZOFFSETTO:+0100
RDATE:20261025T030000
END:STANDARD
BEGIN:DAYLIGHT
TZNAME:CEST
DTSTART:20260329T020000
TZOFFSETFROM:+0100
TZOFFSETTO:+0200
RDATE:20270328T020000
END:DAYLIGHT
END:VTIMEZONE
BEGIN:VEVENT
UID:d0add33b-0a6b-44cb-9b2b-626e7a18d59f
DTSTAMP:20260420T083807Z
CLASS:PUBLIC
DESCRIPTION:D 2002\, Regie: Katrin Eissing\, 85 min\, engl. UTZu Gast: Katr
 in Eissing Als »Laissez-faire« beschreibt die Mutter der Regisseurin Katri
 n Eissing die antiautoritäre Erziehungsmethode\, die sie bei der Filmemach
 erin und ihren drei Brüdern in den 1970er-Jahren anwendet. Der Vater\, Arz
 t und ehemaliger Wehrmachtssoldat\, zieht sich komplett zurück. Die psychi
 sche Abwesenheit der Elterngeneration\, die in ihren eigenen Traumata fest
 steckt\, hat fatale Folgen für die Kinder. Vor allem der älteste Sohn Arne
  geht daran zugrunde. Behutsam navigiert die Filmemacherin durch das Schwe
 igen und die Entfremdung innerhalb ihrer Familie. Fragend sitzt sie ihren 
 Brüdern und der Mutter gegenüber und zeigt\, wie einsam man in Gemeinschaf
 t sein kann. 
DTSTART;TZID=Europe/Berlin:20260428T190000
DTEND;TZID=Europe/Berlin:20260428T190000
LOCATION:Kinemathek – Studiokino
SEQUENCE:1
SUMMARY:Auf demselben Planeten
TRANSP:OPAQUE
X-ALT-DESC;FMTTYPE=TEXT/HTML:D 2002\, Regie: Katrin Eissing\, 85 min\, engl
 . UTZu Gast: Katrin Eissing&amp;nbsp\;Als »Laissez-faire« beschreibt die Mutte
 r der Regisseurin Katrin Eissing die antiautoritäre Erziehungsmethode\, di
 e sie bei der Filmemacherin und ihren drei Brüdern in den 1970er-Jahren an
 wendet. Der Vater\, Arzt und ehemaliger Wehrmachtssoldat\, zieht sich komp
 lett zurück. Die psychische Abwesenheit&amp;nbsp\;der Elterngeneration\, die i
 n ihren eigenen&amp;nbsp\;Traumata&amp;nbsp\;feststeckt\,&amp;nbsp\;hat fatale Folgen&amp;
 nbsp\;für die Kinder. Vor allem der älteste Sohn Arne geht daran zugrunde.
  Behutsam navigiert die Filmemacherin durch das Schweigen und die Entfremd
 ung innerhalb ihrer Familie. Fragend sitzt sie ihren Brüdern und der Mutte
 r gegenüber und zeigt\, wie einsam man in Gemeinschaft sein kann.&amp;nbsp\;
END:VEVENT
END:VCALENDAR
